BEGIN:VCALENDAR
VERSION:2.0
PRODID:-//Toledo Lucas County Health Department - ECPv6.15.20//NONSGML v1.0//EN
CALSCALE:GREGORIAN
METHOD:PUBLISH
X-ORIGINAL-URL:https://lucascountyhealth.com
X-WR-CALDESC:Events for Toledo Lucas County Health Department
REFRESH-INTERVAL;VALUE=DURATION:PT1H
X-Robots-Tag:noindex
X-PUBLISHED-TTL:PT1H
BEGIN:VTIMEZONE
TZID:UTC
BEGIN:STANDARD
TZOFFSETFROM:+0000
TZOFFSETTO:+0000
TZNAME:UTC
DTSTART:20150101T000000
END:STANDARD
END:VTIMEZONE
BEGIN:VEVENT
DTSTART;VALUE=DATE:20160916
DTEND;VALUE=DATE:20160917
DTSTAMP:20260422T152448
CREATED:20160916T184433Z
LAST-MODIFIED:20160916T204007Z
UID:3543-1473984000-1474070399@lucascountyhealth.com
SUMMARY:Lead Ordinance Begins 9/16/16
DESCRIPTION:The TLCHD has begun registration for all individuals who are ODH certified and licensed Lead Risk Assessors\, Lead Inspectors\, and Clearance Technicians. You can not be a ‘Local Lead Inspector’ unless you possess one of these ODH licenses. If an individual is interested in obtaining this training\, we are directing individuals to the Ohio Department of Health’s website (http://www.odh.ohio.gov/odhprograms/eh/lp_prev/lp_list1.aspx) to search for available training resources. We have had this information on our website and frequently asked questions for the past few weeks. Our staff is working with the Ohio Department of Health to be able to offer a clearance technician training course in Lucas County (provided from our department). \nResources about the lead ordinance can be found at our website under Environmental Health > Lead Prevention (or https://lucascountyhealth.com/environmental-health/lead-prevention/).  Training information can be found at Lead Implementation Information \nMore information on this training course will be posted on our website and in press releases\, as available. \n 
URL:https://lucascountyhealth.com/event/lead-ordinance-begins-91616/
END:VEVENT
END:VCALENDAR