BEGIN:VCALENDAR
VERSION:2.0
PRODID:-//Toledo Lucas County Health Department - ECPv6.15.20//NONSGML v1.0//EN
CALSCALE:GREGORIAN
METHOD:PUBLISH
X-WR-CALNAME:Toledo Lucas County Health Department
X-ORIGINAL-URL:https://lucascountyhealth.com
X-WR-CALDESC:Events for Toledo Lucas County Health Department
REFRESH-INTERVAL;VALUE=DURATION:PT1H
X-Robots-Tag:noindex
X-PUBLISHED-TTL:PT1H
BEGIN:VTIMEZONE
TZID:America/Detroit
BEGIN:DAYLIGHT
TZOFFSETFROM:-0500
TZOFFSETTO:-0400
TZNAME:EDT
DTSTART:20220313T070000
END:DAYLIGHT
BEGIN:STANDARD
TZOFFSETFROM:-0400
TZOFFSETTO:-0500
TZNAME:EST
DTSTART:20221106T060000
END:STANDARD
BEGIN:DAYLIGHT
TZOFFSETFROM:-0500
TZOFFSETTO:-0400
TZNAME:EDT
DTSTART:20230312T070000
END:DAYLIGHT
BEGIN:STANDARD
TZOFFSETFROM:-0400
TZOFFSETTO:-0500
TZNAME:EST
DTSTART:20231105T060000
END:STANDARD
BEGIN:DAYLIGHT
TZOFFSETFROM:-0500
TZOFFSETTO:-0400
TZNAME:EDT
DTSTART:20240310T070000
END:DAYLIGHT
BEGIN:STANDARD
TZOFFSETFROM:-0400
TZOFFSETTO:-0500
TZNAME:EST
DTSTART:20241103T060000
END:STANDARD
END:VTIMEZONE
BEGIN:VEVENT
DTSTART;VALUE=DATE:20230301
DTEND;VALUE=DATE:20230302
DTSTAMP:20260421T200200
CREATED:20230124T172605Z
LAST-MODIFIED:20230124T172605Z
UID:61856-1677628800-1677715199@lucascountyhealth.com
SUMMARY:Food Facility Licenses Due
DESCRIPTION:Be sure to have all mail postmarked no later than March 1\, 2023. All renewals must have the correct amount and be signed. \nFor more information\, please visit our Food Safety webpage.
URL:https://lucascountyhealth.com/event/food-facility-licenses-due/
CATEGORIES:Important Dates
END:VEVENT
BEGIN:VEVENT
DTSTART;TZID=America/Detroit:20230301T133000
DTEND;TZID=America/Detroit:20230301T163000
DTSTAMP:20260421T200200
CREATED:20230222T204507Z
LAST-MODIFIED:20230222T204507Z
UID:61974-1677677400-1677688200@lucascountyhealth.com
SUMMARY:Northwest Ohio Syringe Services
DESCRIPTION:Our goal is to help people who inject drugs stay healthy. We provide syringes and other sterile injection equipment in a non-judgmental\, anonymous\, and supportive setting. \nVisit our NOSS Page for more information on the services we provide.
URL:https://lucascountyhealth.com/event/northwest-ohio-syringe-services-18/
LOCATION:Zepf Center – Central\, 6605 W. Central Ave.\, Toledo\, OH\, 43617\, United States
CATEGORIES:NOSS (Syringe Services)
END:VEVENT
BEGIN:VEVENT
DTSTART;TZID=America/Detroit:20230301T190000
DTEND;TZID=America/Detroit:20230301T190000
DTSTAMP:20260421T200200
CREATED:20230217T171115Z
LAST-MODIFIED:20230217T171115Z
UID:61951-1677697200-1677697200@lucascountyhealth.com
SUMMARY:Traffic Safety at UT Basketball Game
DESCRIPTION:A representative from TLCHD will be on hand to talk about distracted driving and roundabouts\, as well as Click it or Ticket\, Drive Sober or Get Pulled Over\, Watch Out for Motorcycles and Stay Alive Don’t Text and Drive.\n\nParticipants can use our Drunk Buster goggles to experience the different levels of intoxication or sleepy driving.
URL:https://lucascountyhealth.com/event/traffic-safety-at-ut-basketball-game/
LOCATION:Savage Arena\, 2025 N Douglas Rd\, Toledo\, OH\, 43606\, United States
CATEGORIES:Community Events
END:VEVENT
END:VCALENDAR