BEGIN:VCALENDAR
VERSION:2.0
PRODID:-//Toledo Lucas County Health Department - ECPv6.15.20//NONSGML v1.0//EN
CALSCALE:GREGORIAN
METHOD:PUBLISH
X-ORIGINAL-URL:https://lucascountyhealth.com
X-WR-CALDESC:Events for Toledo Lucas County Health Department
REFRESH-INTERVAL;VALUE=DURATION:PT1H
X-Robots-Tag:noindex
X-PUBLISHED-TTL:PT1H
BEGIN:VTIMEZONE
TZID:America/Detroit
BEGIN:DAYLIGHT
TZOFFSETFROM:-0500
TZOFFSETTO:-0400
TZNAME:EDT
DTSTART:20220313T070000
END:DAYLIGHT
BEGIN:STANDARD
TZOFFSETFROM:-0400
TZOFFSETTO:-0500
TZNAME:EST
DTSTART:20221106T060000
END:STANDARD
BEGIN:DAYLIGHT
TZOFFSETFROM:-0500
TZOFFSETTO:-0400
TZNAME:EDT
DTSTART:20230312T070000
END:DAYLIGHT
BEGIN:STANDARD
TZOFFSETFROM:-0400
TZOFFSETTO:-0500
TZNAME:EST
DTSTART:20231105T060000
END:STANDARD
BEGIN:DAYLIGHT
TZOFFSETFROM:-0500
TZOFFSETTO:-0400
TZNAME:EDT
DTSTART:20240310T070000
END:DAYLIGHT
BEGIN:STANDARD
TZOFFSETFROM:-0400
TZOFFSETTO:-0500
TZNAME:EST
DTSTART:20241103T060000
END:STANDARD
END:VTIMEZONE
BEGIN:VEVENT
DTSTART;TZID=America/Detroit:20230525T083000
DTEND;TZID=America/Detroit:20230525T083000
DTSTAMP:20260420T095940
CREATED:20230223T194605Z
LAST-MODIFIED:20230524T184824Z
UID:61999-1685003400-1685003400@lucascountyhealth.com
SUMMARY:Board of Health Meeting
DESCRIPTION:Regular meetings of the Lucas County Regional Board of Health are held on the 4th Thursday of every month at 8:30 AM.
URL:https://lucascountyhealth.com/event/board-of-health-meeting-3/
LOCATION:Holy Trinity Greek Orthodox Cathedral\, 740 N Superior St\, Toledo\, OH\, 43604
CATEGORIES:Important Dates
END:VEVENT
BEGIN:VEVENT
DTSTART;TZID=America/Detroit:20230525T183000
DTEND;TZID=America/Detroit:20230525T203000
DTSTAMP:20260420T095940
CREATED:20230524T175325Z
LAST-MODIFIED:20230524T175325Z
UID:62299-1685039400-1685046600@lucascountyhealth.com
SUMMARY:Buckle Up\, Batter Up
DESCRIPTION:The Toledo-Lucas County Health Department’s Safe Communities Coalition\, along with community partners\, is hosting a press event to raise awareness of the importance of seatbelt use. \nSeatbelts play an essential role in vehicle crashes. They have decreased the severity of injuries and have prevented countless deaths. The Toledo-Lucas County Health Department and its partners want to share how the simple act of buckling a seatbelt can make the difference between life and death. \nThis event will take place before the Toledo Mud Hens game against Rochester\, scheduled for 6:35 pm. Guests will learn statistics from the Ohio State Highway Patrol and Lucas County Safe Communities. A Saved by the Belt award recipient will be there to give their firsthand story of survival. The event will also include a color guard performance. State Patrol cruisers will be lined up outside the field\, and OSHP troopers will throw the first pitch.
URL:https://lucascountyhealth.com/event/buckle-up-batter-up/
LOCATION:Fifth Third Field\, 406 Washington St.\, Toledo\, OH\, 43604
CATEGORIES:Community Events
END:VEVENT
END:VCALENDAR